BEGIN:VCALENDAR
VERSION:2.0
PRODID:-//pretix//pretix.eu//
BEGIN:VTIMEZONE
TZID:Europe/Berlin
BEGIN:STANDARD
DTSTART:20001029T040000
RRULE:FREQ=YEARLY;BYDAY=-1SU;BYMONTH=10
TZNAME:CET
TZOFFSETFROM:+0200
TZOFFSETTO:+0100
END:STANDARD
BEGIN:DAYLIGHT
DTSTART:20000326T030000
RRULE:FREQ=YEARLY;BYDAY=-1SU;BYMONTH=3
TZNAME:CEST
TZOFFSETFROM:+0100
TZOFFSETTO:+0200
END:DAYLIGHT
END:VTIMEZONE
BEGIN:VEVENT
UID:pretix-fokusforum-vt-ticketing-4673765@fokusforum.vereinsticket.de
DTSTART;TZID=Europe/Berlin:20250927T193000
DTEND;TZID=Europe/Berlin:20250927T203000
DESCRIPTION:Tickets: https://fokusforum.vereinsticket.de/vt-ticketing/46737
 65/\nVeranstalter: FOKUS Forum für künstlerische Umsetzung
DTSTAMP:20260419T205851Z
LOCATION:Laden Auf Zeit\, Kohlgartenstraße\, 04315 Leipzig
SUMMARY:Hear the News
END:VEVENT
END:VCALENDAR
