BEGIN:VCALENDAR
VERSION:2.0
PRODID:-//pretix//pretix.eu//
BEGIN:VTIMEZONE
TZID:Europe/Berlin
BEGIN:STANDARD
DTSTART:20001029T040000
RRULE:FREQ=YEARLY;BYDAY=-1SU;BYMONTH=10
TZNAME:CET
TZOFFSETFROM:+0200
TZOFFSETTO:+0100
END:STANDARD
BEGIN:DAYLIGHT
DTSTART:20000326T030000
RRULE:FREQ=YEARLY;BYDAY=-1SU;BYMONTH=3
TZNAME:CEST
TZOFFSETFROM:+0100
TZOFFSETTO:+0200
END:DAYLIGHT
END:VTIMEZONE
BEGIN:VEVENT
UID:pretix-fokusforum-vt-ticketing-4643785@fokusforum.vereinsticket.de
DTSTART;TZID=Europe/Berlin:20250816T180000
DTEND;TZID=Europe/Berlin:20250816T190000
DESCRIPTION:Tickets: https://fokusforum.vereinsticket.de/vt-ticketing/46437
 85/\nVeranstalter: FOKUS Forum für künstlerische Umsetzung
DTSTAMP:20260419T222947Z
LOCATION:Weltecho Café\, Annaberger Straße 24\, 09111 Chemnitz
SUMMARY:Stop\, breathe\, listen…
END:VEVENT
END:VCALENDAR
